BEGIN:VCALENDAR
VERSION:2.0
PRODID:-//First Baptist Church Burnet - ECPv6.15.20//NONSGML v1.0//EN
CALSCALE:GREGORIAN
METHOD:PUBLISH
X-WR-CALNAME:First Baptist Church Burnet
X-ORIGINAL-URL:https://fbcburnet.org
X-WR-CALDESC:Events for First Baptist Church Burnet
REFRESH-INTERVAL;VALUE=DURATION:PT1H
X-Robots-Tag:noindex
X-PUBLISHED-TTL:PT1H
BEGIN:VTIMEZONE
TZID:America/Chicago
BEGIN:DAYLIGHT
TZOFFSETFROM:-0600
TZOFFSETTO:-0500
TZNAME:CDT
DTSTART:20240310T080000
END:DAYLIGHT
BEGIN:STANDARD
TZOFFSETFROM:-0500
TZOFFSETTO:-0600
TZNAME:CST
DTSTART:20241103T070000
END:STANDARD
BEGIN:DAYLIGHT
TZOFFSETFROM:-0600
TZOFFSETTO:-0500
TZNAME:CDT
DTSTART:20250309T080000
END:DAYLIGHT
BEGIN:STANDARD
TZOFFSETFROM:-0500
TZOFFSETTO:-0600
TZNAME:CST
DTSTART:20251102T070000
END:STANDARD
BEGIN:DAYLIGHT
TZOFFSETFROM:-0600
TZOFFSETTO:-0500
TZNAME:CDT
DTSTART:20260308T080000
END:DAYLIGHT
BEGIN:STANDARD
TZOFFSETFROM:-0500
TZOFFSETTO:-0600
TZNAME:CST
DTSTART:20261101T070000
END:STANDARD
END:VTIMEZONE
BEGIN:VEVENT
DTSTART;TZID=America/Chicago:20251205T173000
DTEND;TZID=America/Chicago:20251207T203000
DTSTAMP:20260424T174900
CREATED:20250108T223326Z
LAST-MODIFIED:20251206T145757Z
UID:72922-1764955800-1765139400@fbcburnet.org
SUMMARY:Main Street Bethlehem
DESCRIPTION:
URL:https://fbcburnet.org/event/main-street-bethlehem/
ATTACH;FMTTYPE=image/png:https://fbcburnet.org/wp-content/uploads/2025/01/22.png
END:VEVENT
BEGIN:VEVENT
DTSTART;VALUE=DATE:20251209
DTEND;VALUE=DATE:20251210
DTSTAMP:20260424T174900
CREATED:20251013T144910Z
LAST-MODIFIED:20251013T144910Z
UID:73190-1765238400-1765324799@fbcburnet.org
SUMMARY:Senior Strong Black Bear Dinner
DESCRIPTION:December 9\, 2025 – Senior Strong trip to eat dinner at the Black Bear Dinner see the\nChristmas lights at Belton Lake and. Contact Doug Downs or the church office to\nsign up and receive more information.
URL:https://fbcburnet.org/event/senior-strong-black-bear-dinner/
ATTACH;FMTTYPE=image/jpeg:https://fbcburnet.org/wp-content/uploads/2025/10/2.jpg
END:VEVENT
BEGIN:VEVENT
DTSTART;TZID=America/Chicago:20251212T173000
DTEND;TZID=America/Chicago:20251214T203000
DTSTAMP:20260424T174900
CREATED:20250108T223420Z
LAST-MODIFIED:20251206T145734Z
UID:72924-1765560600-1765744200@fbcburnet.org
SUMMARY:Main Street Bethlehem
DESCRIPTION:
URL:https://fbcburnet.org/event/main-street-bethlehem-2/
ATTACH;FMTTYPE=image/png:https://fbcburnet.org/wp-content/uploads/2025/01/22.png
END:VEVENT
BEGIN:VEVENT
DTSTART;TZID=America/Chicago:20251224T160000
DTEND;TZID=America/Chicago:20251224T170000
DTSTAMP:20260424T174900
CREATED:20250108T223540Z
LAST-MODIFIED:20251219T164802Z
UID:72926-1766592000-1766595600@fbcburnet.org
SUMMARY:Christmas Eve Services 4PM
DESCRIPTION:
URL:https://fbcburnet.org/event/christmas-eve-services/
ATTACH;FMTTYPE=image/png:https://fbcburnet.org/wp-content/uploads/2025/01/Christmas-eve-services.png
END:VEVENT
BEGIN:VEVENT
DTSTART;TZID=America/Chicago:20251224T180000
DTEND;TZID=America/Chicago:20251224T190000
DTSTAMP:20260424T174900
CREATED:20251219T164725Z
LAST-MODIFIED:20251219T164740Z
UID:73220-1766599200-1766602800@fbcburnet.org
SUMMARY:Christmas Eve Services 6PM
DESCRIPTION:
URL:https://fbcburnet.org/event/christmas-eve-services-2/
ATTACH;FMTTYPE=image/png:https://fbcburnet.org/wp-content/uploads/2025/01/Christmas-eve-services.png
END:VEVENT
END:VCALENDAR