BEGIN:VCALENDAR
VERSION:2.0
PRODID:-//First Baptist Church Burnet - ECPv6.15.20//NONSGML v1.0//EN
CALSCALE:GREGORIAN
METHOD:PUBLISH
X-WR-CALNAME:First Baptist Church Burnet
X-ORIGINAL-URL:https://fbcburnet.org
X-WR-CALDESC:Events for First Baptist Church Burnet
REFRESH-INTERVAL;VALUE=DURATION:PT1H
X-Robots-Tag:noindex
X-PUBLISHED-TTL:PT1H
BEGIN:VTIMEZONE
TZID:America/Chicago
BEGIN:DAYLIGHT
TZOFFSETFROM:-0600
TZOFFSETTO:-0500
TZNAME:CDT
DTSTART:20230312T080000
END:DAYLIGHT
BEGIN:STANDARD
TZOFFSETFROM:-0500
TZOFFSETTO:-0600
TZNAME:CST
DTSTART:20231105T070000
END:STANDARD
BEGIN:DAYLIGHT
TZOFFSETFROM:-0600
TZOFFSETTO:-0500
TZNAME:CDT
DTSTART:20240310T080000
END:DAYLIGHT
BEGIN:STANDARD
TZOFFSETFROM:-0500
TZOFFSETTO:-0600
TZNAME:CST
DTSTART:20241103T070000
END:STANDARD
BEGIN:DAYLIGHT
TZOFFSETFROM:-0600
TZOFFSETTO:-0500
TZNAME:CDT
DTSTART:20250309T080000
END:DAYLIGHT
BEGIN:STANDARD
TZOFFSETFROM:-0500
TZOFFSETTO:-0600
TZNAME:CST
DTSTART:20251102T070000
END:STANDARD
BEGIN:DAYLIGHT
TZOFFSETFROM:-0600
TZOFFSETTO:-0500
TZNAME:CDT
DTSTART:20260308T080000
END:DAYLIGHT
BEGIN:STANDARD
TZOFFSETFROM:-0500
TZOFFSETTO:-0600
TZNAME:CST
DTSTART:20261101T070000
END:STANDARD
END:VTIMEZONE
BEGIN:VEVENT
DTSTART;TZID=America/Chicago:20250202T120000
DTEND;TZID=America/Chicago:20250202T140000
DTSTAMP:20260425T090557
CREATED:20250108T222102Z
LAST-MODIFIED:20250108T232757Z
UID:72899-1738497600-1738504800@fbcburnet.org
SUMMARY:Children & Youth Camp - Dessert Auction & Meal
DESCRIPTION:
URL:https://fbcburnet.org/event/children-youth-camp-dessert-auction-meal/
ATTACH;FMTTYPE=image/png:https://fbcburnet.org/wp-content/uploads/2025/01/3.png
END:VEVENT
BEGIN:VEVENT
DTSTART;VALUE=DATE:20240714
DTEND;VALUE=DATE:20240715
DTSTAMP:20260425T090557
CREATED:20240612T135121Z
LAST-MODIFIED:20240612T135121Z
UID:72736-1720915200-1721001599@fbcburnet.org
SUMMARY:Baptism
DESCRIPTION:
URL:https://fbcburnet.org/event/baptism/
ATTACH;FMTTYPE=image/png:https://fbcburnet.org/wp-content/uploads/2024/06/2.png
END:VEVENT
BEGIN:VEVENT
DTSTART;TZID=America/Chicago:20240713T080000
DTEND;TZID=America/Chicago:20240713T090000
DTSTAMP:20260425T090557
CREATED:20240702T185639Z
LAST-MODIFIED:20240702T185639Z
UID:72777-1720857600-1720861200@fbcburnet.org
SUMMARY:Men's breakfast
DESCRIPTION:
URL:https://fbcburnet.org/event/mens-breakfast-3/
ATTACH;FMTTYPE=image/jpeg:https://fbcburnet.org/wp-content/uploads/2024/07/mens-bfast.jpg
END:VEVENT
BEGIN:VEVENT
DTSTART;TZID=America/Chicago:20240709T180000
DTEND;TZID=America/Chicago:20240709T200000
DTSTAMP:20260425T090557
CREATED:20240702T185559Z
LAST-MODIFIED:20240702T185559Z
UID:72775-1720548000-1720555200@fbcburnet.org
SUMMARY:Ladies Night Out
DESCRIPTION:
URL:https://fbcburnet.org/event/ladies-night-out-3/
ATTACH;FMTTYPE=image/jpeg:https://fbcburnet.org/wp-content/uploads/2024/07/ladies-night.jpg
END:VEVENT
BEGIN:VEVENT
DTSTART;VALUE=DATE:20240707
DTEND;VALUE=DATE:20240708
DTSTAMP:20260425T090557
CREATED:20240702T185400Z
LAST-MODIFIED:20240702T185400Z
UID:72771-1720310400-1720396799@fbcburnet.org
SUMMARY:Welcome Zane Walls
DESCRIPTION:
URL:https://fbcburnet.org/event/welcome-zane-walls/
ATTACH;FMTTYPE=image/jpeg:https://fbcburnet.org/wp-content/uploads/2024/07/zane.jpg
END:VEVENT
BEGIN:VEVENT
DTSTART;VALUE=DATE:20240707
DTEND;VALUE=DATE:20240708
DTSTAMP:20260425T090557
CREATED:20240619T160450Z
LAST-MODIFIED:20240619T160450Z
UID:72744-1720310400-1720396799@fbcburnet.org
SUMMARY:Communion
DESCRIPTION:
URL:https://fbcburnet.org/event/communion-2/
ATTACH;FMTTYPE=image/jpeg:https://fbcburnet.org/wp-content/uploads/2024/06/Announcement-Slides-1.jpg
END:VEVENT
BEGIN:VEVENT
DTSTART;VALUE=DATE:20240704
DTEND;VALUE=DATE:20240705
DTSTAMP:20260425T090557
CREATED:20240627T151843Z
LAST-MODIFIED:20240627T151843Z
UID:72754-1720051200-1720137599@fbcburnet.org
SUMMARY:Office closed July 4th
DESCRIPTION:
URL:https://fbcburnet.org/event/office-closed-july-4th/
ATTACH;FMTTYPE=image/jpeg:https://fbcburnet.org/wp-content/uploads/2024/06/4th-of-july-closed.jpg
END:VEVENT
BEGIN:VEVENT
DTSTART;VALUE=DATE:20240630
DTEND;VALUE=DATE:20240701
DTSTAMP:20260425T090557
CREATED:20240627T152148Z
LAST-MODIFIED:20240627T152148Z
UID:72762-1719705600-1719791999@fbcburnet.org
SUMMARY:New Staff
DESCRIPTION:
URL:https://fbcburnet.org/event/new-staff/
ATTACH;FMTTYPE=image/jpeg:https://fbcburnet.org/wp-content/uploads/2024/06/new-staff.jpg
END:VEVENT
BEGIN:VEVENT
DTSTART;VALUE=DATE:20240630
DTEND;VALUE=DATE:20240701
DTSTAMP:20260425T090557
CREATED:20240627T151926Z
LAST-MODIFIED:20240627T151926Z
UID:72756-1719705600-1719791999@fbcburnet.org
SUMMARY:Bucket Ministry
DESCRIPTION:
URL:https://fbcburnet.org/event/bucket-ministry/
ATTACH;FMTTYPE=image/jpeg:https://fbcburnet.org/wp-content/uploads/2024/06/bucket-ministry.jpg
END:VEVENT
BEGIN:VEVENT
DTSTART;TZID=America/Chicago:20240623T120000
DTEND;TZID=America/Chicago:20240623T143000
DTSTAMP:20260425T090557
CREATED:20240604T212548Z
LAST-MODIFIED:20240604T212548Z
UID:72725-1719144000-1719153000@fbcburnet.org
SUMMARY:Church-wide lunch
DESCRIPTION:
URL:https://fbcburnet.org/event/church-wide-lunch/
ATTACH;FMTTYPE=image/jpeg:https://fbcburnet.org/wp-content/uploads/2024/06/unnamed.jpg
END:VEVENT
BEGIN:VEVENT
DTSTART;TZID=America/Chicago:20240623T090000
DTEND;TZID=America/Chicago:20240623T110000
DTSTAMP:20260425T090557
CREATED:20240612T135732Z
LAST-MODIFIED:20240612T135732Z
UID:72740-1719133200-1719140400@fbcburnet.org
SUMMARY:Kid's "I'm A Christian" Class
DESCRIPTION:
URL:https://fbcburnet.org/event/kids-im-a-christian-class/
ATTACH;FMTTYPE=image/png:https://fbcburnet.org/wp-content/uploads/2024/06/5.png
END:VEVENT
BEGIN:VEVENT
DTSTART;VALUE=DATE:20240623
DTEND;VALUE=DATE:20240624
DTSTAMP:20260425T090557
CREATED:20240612T134804Z
LAST-MODIFIED:20240612T134804Z
UID:72732-1719100800-1719187199@fbcburnet.org
SUMMARY:New staff member
DESCRIPTION:
URL:https://fbcburnet.org/event/new-staff-member/
ATTACH;FMTTYPE=image/png:https://fbcburnet.org/wp-content/uploads/2024/06/Announcement-Slides.png
END:VEVENT
BEGIN:VEVENT
DTSTART;VALUE=DATE:20240621
DTEND;VALUE=DATE:20240626
DTSTAMP:20260425T090557
CREATED:20240612T135218Z
LAST-MODIFIED:20240612T135218Z
UID:72738-1718928000-1719359999@fbcburnet.org
SUMMARY:Youth Camp
DESCRIPTION:
URL:https://fbcburnet.org/event/youth-camp/
ATTACH;FMTTYPE=image/png:https://fbcburnet.org/wp-content/uploads/2024/06/1.png
END:VEVENT
BEGIN:VEVENT
DTSTART;TZID=America/Chicago:20240611T180000
DTEND;TZID=America/Chicago:20240611T200000
DTSTAMP:20260425T090557
CREATED:20240604T212446Z
LAST-MODIFIED:20240604T212446Z
UID:72723-1718128800-1718136000@fbcburnet.org
SUMMARY:Ladies Night Out
DESCRIPTION:
URL:https://fbcburnet.org/event/ladies-night-out-2/
ATTACH;FMTTYPE=image/jpeg:https://fbcburnet.org/wp-content/uploads/2024/06/unnamed-2.jpg
END:VEVENT
BEGIN:VEVENT
DTSTART;TZID=America/Chicago:20240611T090000
DTEND;TZID=America/Chicago:20240611T140000
DTSTAMP:20260425T090557
CREATED:20240528T182245Z
LAST-MODIFIED:20240528T182245Z
UID:72706-1718096400-1718114400@fbcburnet.org
SUMMARY:Blood Drive
DESCRIPTION:
URL:https://fbcburnet.org/event/blood-drive/
ATTACH;FMTTYPE=image/jpeg:https://fbcburnet.org/wp-content/uploads/2024/05/IMG_7623.jpg
END:VEVENT
BEGIN:VEVENT
DTSTART;VALUE=DATE:20240609
DTEND;VALUE=DATE:20240610
DTSTAMP:20260425T090557
CREATED:20240604T212332Z
LAST-MODIFIED:20240604T212332Z
UID:72721-1717891200-1717977599@fbcburnet.org
SUMMARY:Thank you
DESCRIPTION:
URL:https://fbcburnet.org/event/thank-you/
ATTACH;FMTTYPE=image/jpeg:https://fbcburnet.org/wp-content/uploads/2024/06/unnamed-1.jpg
END:VEVENT
BEGIN:VEVENT
DTSTART;TZID=America/Chicago:20240608T080000
DTEND;TZID=America/Chicago:20240608T100000
DTSTAMP:20260425T090557
CREATED:20240528T182423Z
LAST-MODIFIED:20240528T182423Z
UID:72708-1717833600-1717840800@fbcburnet.org
SUMMARY:Men's breakfast
DESCRIPTION:
URL:https://fbcburnet.org/event/mens-breakfast-2/
ATTACH;FMTTYPE=image/jpeg:https://fbcburnet.org/wp-content/uploads/2024/05/IMG_7625.jpg
END:VEVENT
BEGIN:VEVENT
DTSTART;TZID=America/Chicago:20240606T183000
DTEND;TZID=America/Chicago:20240606T200000
DTSTAMP:20260425T090557
CREATED:20240528T210508Z
LAST-MODIFIED:20240528T211114Z
UID:72715-1717698600-1717704000@fbcburnet.org
SUMMARY:Ladies Bible Study
DESCRIPTION:
URL:https://fbcburnet.org/event/ladies-bible-study-3/
ATTACH;FMTTYPE=image/jpeg:https://fbcburnet.org/wp-content/uploads/2024/05/image_123650291.jpg
END:VEVENT
BEGIN:VEVENT
DTSTART;VALUE=DATE:20240603
DTEND;VALUE=DATE:20240608
DTSTAMP:20260425T090557
CREATED:20240528T182528Z
LAST-MODIFIED:20240528T182528Z
UID:72710-1717372800-1717804799@fbcburnet.org
SUMMARY:Events Cancelled
DESCRIPTION:
URL:https://fbcburnet.org/event/events-cancelled/
ATTACH;FMTTYPE=image/jpeg:https://fbcburnet.org/wp-content/uploads/2024/05/IMG_7627.jpg
END:VEVENT
BEGIN:VEVENT
DTSTART;VALUE=DATE:20240603
DTEND;VALUE=DATE:20240608
DTSTAMP:20260425T090557
CREATED:20240412T154119Z
LAST-MODIFIED:20240412T154222Z
UID:72577-1717372800-1717804799@fbcburnet.org
SUMMARY:Vacation Bible School
DESCRIPTION:8:00am-12:45pm – Join us for a week filled with Jesus and fun! Registration is open. Only 150 spots available.
URL:https://fbcburnet.org/event/vacation-bible-school/
ATTACH;FMTTYPE=image/jpeg:https://fbcburnet.org/wp-content/uploads/2024/04/vbsweb-scaled-e1712934713144.jpg
END:VEVENT
BEGIN:VEVENT
DTSTART;VALUE=DATE:20240527
DTEND;VALUE=DATE:20240528
DTSTAMP:20260425T090557
CREATED:20240520T185904Z
LAST-MODIFIED:20240520T185904Z
UID:72699-1716768000-1716854399@fbcburnet.org
SUMMARY:Office closed
DESCRIPTION:
URL:https://fbcburnet.org/event/office-closed/
ATTACH;FMTTYPE=image/jpeg:https://fbcburnet.org/wp-content/uploads/2024/05/office-closed.jpg
END:VEVENT
BEGIN:VEVENT
DTSTART;TZID=America/Chicago:20240526T121500
DTEND;TZID=America/Chicago:20240526T130000
DTSTAMP:20260425T090557
CREATED:20240509T132225Z
LAST-MODIFIED:20240509T132225Z
UID:72687-1716725700-1716728400@fbcburnet.org
SUMMARY:Hoover Valley Church interest meeting
DESCRIPTION:
URL:https://fbcburnet.org/event/hoover-valley-church-interest-meeting/
ATTACH;FMTTYPE=image/jpeg:https://fbcburnet.org/wp-content/uploads/2024/05/IMG_7419.jpg
END:VEVENT
BEGIN:VEVENT
DTSTART;TZID=America/Chicago:20240519T140000
DTEND;TZID=America/Chicago:20240519T160000
DTSTAMP:20260425T090557
CREATED:20240508T214146Z
LAST-MODIFIED:20240508T214402Z
UID:72683-1716127200-1716134400@fbcburnet.org
SUMMARY:VBS Worker's Meeting
DESCRIPTION:
URL:https://fbcburnet.org/event/vbs-workers-meeting/
ATTACH;FMTTYPE=image/jpeg:https://fbcburnet.org/wp-content/uploads/2024/05/IMG_7417-1.jpg
END:VEVENT
BEGIN:VEVENT
DTSTART;TZID=America/Chicago:20240514T180000
DTEND;TZID=America/Chicago:20240514T200000
DTSTAMP:20260425T090557
CREATED:20240508T213953Z
LAST-MODIFIED:20240508T213953Z
UID:72681-1715709600-1715716800@fbcburnet.org
SUMMARY:Ladies Night Out
DESCRIPTION:
URL:https://fbcburnet.org/event/ladies-night-out/
ATTACH;FMTTYPE=image/jpeg:https://fbcburnet.org/wp-content/uploads/2024/05/IMG_7416.jpg
END:VEVENT
BEGIN:VEVENT
DTSTART;TZID=America/Chicago:20240512T093000
DTEND;TZID=America/Chicago:20240512T123000
DTSTAMP:20260425T090557
CREATED:20240401T161225Z
LAST-MODIFIED:20240401T161225Z
UID:72551-1715506200-1715517000@fbcburnet.org
SUMMARY:Child Dedication
DESCRIPTION:If you would like to dedicate your child(ren)\, please contact the church office to sign up.
URL:https://fbcburnet.org/event/child-dedication/
ATTACH;FMTTYPE=image/jpeg:https://fbcburnet.org/wp-content/uploads/2024/04/Announcement-Slides-8-scaled.jpg
END:VEVENT
BEGIN:VEVENT
DTSTART;TZID=America/Chicago:20240511T080000
DTEND;TZID=America/Chicago:20240511T093000
DTSTAMP:20260425T090557
CREATED:20240508T213627Z
LAST-MODIFIED:20240508T213805Z
UID:72679-1715414400-1715419800@fbcburnet.org
SUMMARY:Men's Breakfast
DESCRIPTION:
URL:https://fbcburnet.org/event/mens-breakfast/
ATTACH;FMTTYPE=image/png:https://fbcburnet.org/wp-content/uploads/2024/05/25.png
END:VEVENT
BEGIN:VEVENT
DTSTART;VALUE=DATE:20240505
DTEND;VALUE=DATE:20240506
DTSTAMP:20260425T090557
CREATED:20240428T113341Z
LAST-MODIFIED:20240428T113341Z
UID:72620-1714867200-1714953599@fbcburnet.org
SUMMARY:Senior Recognition Sunday
DESCRIPTION:We are excited to honor our Graduating Seniors during both services.
URL:https://fbcburnet.org/event/senior-recognition-sunday/
ATTACH;FMTTYPE=image/jpeg:https://fbcburnet.org/wp-content/uploads/2024/04/Senior-Sunday-scaled.jpg
END:VEVENT
BEGIN:VEVENT
DTSTART;TZID=America/Chicago:20240504T100000
DTEND;TZID=America/Chicago:20240504T120000
DTSTAMP:20260425T090557
CREATED:20240422T180251Z
LAST-MODIFIED:20240422T180251Z
UID:72601-1714816800-1714824000@fbcburnet.org
SUMMARY:Women on Mission - Special Event
DESCRIPTION:Ladies luncheon for Burnet/Llano Association. All ladies are invited!
URL:https://fbcburnet.org/event/women-on-mission-special-event/
ATTACH;FMTTYPE=image/jpeg:https://fbcburnet.org/wp-content/uploads/2024/04/Announcement-Slides-scaled.jpg
END:VEVENT
BEGIN:VEVENT
DTSTART;VALUE=DATE:20240503
DTEND;VALUE=DATE:20240504
DTSTAMP:20260425T090557
CREATED:20240428T113529Z
LAST-MODIFIED:20240428T113529Z
UID:72624-1714694400-1714780799@fbcburnet.org
SUMMARY:Senior Strong
DESCRIPTION:We are headed to Kerrville. We are meeting at the church to leave at 7:00am. Contact Doug Downs to sign up or find out more.
URL:https://fbcburnet.org/event/senior-strong/
ATTACH;FMTTYPE=image/jpeg:https://fbcburnet.org/wp-content/uploads/2024/04/Announcement-Slides-4-scaled.jpg
END:VEVENT
BEGIN:VEVENT
DTSTART;TZID=America/Chicago:20240501T180000
DTEND;TZID=America/Chicago:20240501T190000
DTSTAMP:20260425T090557
CREATED:20240422T134350Z
LAST-MODIFIED:20240422T134350Z
UID:72590-1714586400-1714590000@fbcburnet.org
SUMMARY:Kidzone End of Year Program
DESCRIPTION:Come support our kids and all the hard work they put in to put this program together.
URL:https://fbcburnet.org/event/kidzone-end-of-year-program/
ATTACH;FMTTYPE=image/jpeg:https://fbcburnet.org/wp-content/uploads/2022/07/Announcement-Slides-2-scaled.jpg
END:VEVENT
END:VCALENDAR