BEGIN:VCALENDAR
VERSION:2.0
PRODID:-//First Baptist Church Burnet - ECPv6.15.20//NONSGML v1.0//EN
CALSCALE:GREGORIAN
METHOD:PUBLISH
X-WR-CALNAME:First Baptist Church Burnet
X-ORIGINAL-URL:https://fbcburnet.org
X-WR-CALDESC:Events for First Baptist Church Burnet
REFRESH-INTERVAL;VALUE=DURATION:PT1H
X-Robots-Tag:noindex
X-PUBLISHED-TTL:PT1H
BEGIN:VTIMEZONE
TZID:America/Chicago
BEGIN:DAYLIGHT
TZOFFSETFROM:-0600
TZOFFSETTO:-0500
TZNAME:CDT
DTSTART:20240310T080000
END:DAYLIGHT
BEGIN:STANDARD
TZOFFSETFROM:-0500
TZOFFSETTO:-0600
TZNAME:CST
DTSTART:20241103T070000
END:STANDARD
BEGIN:DAYLIGHT
TZOFFSETFROM:-0600
TZOFFSETTO:-0500
TZNAME:CDT
DTSTART:20250309T080000
END:DAYLIGHT
BEGIN:STANDARD
TZOFFSETFROM:-0500
TZOFFSETTO:-0600
TZNAME:CST
DTSTART:20251102T070000
END:STANDARD
BEGIN:DAYLIGHT
TZOFFSETFROM:-0600
TZOFFSETTO:-0500
TZNAME:CDT
DTSTART:20260308T080000
END:DAYLIGHT
BEGIN:STANDARD
TZOFFSETFROM:-0500
TZOFFSETTO:-0600
TZNAME:CST
DTSTART:20261101T070000
END:STANDARD
END:VTIMEZONE
BEGIN:VEVENT
DTSTART;TZID=America/Chicago:20250418T120000
DTEND;TZID=America/Chicago:20250422T130000
DTSTAMP:20260425T072839
CREATED:20250414T144255Z
LAST-MODIFIED:20250414T144255Z
UID:73080-1744977600-1745326800@fbcburnet.org
SUMMARY:Good Friday Service
DESCRIPTION:Good Friday ServiceFriday\, April 18\, 2025 – 12:00 PMJoin us for a special Good Friday service hosted in our new Worship Center at First Baptist Church Burnet. This reflective gathering\, in partnership with the local Ministerial Alliance\, will focus on the sacrifice of Jesus Christ through Scripture\, worship\, and prayer. \nAll are welcome as we remember the cross and prepare our hearts for the celebration of Easter.
URL:https://fbcburnet.org/event/good-friday-service/
ATTACH;FMTTYPE=image/png:https://fbcburnet.org/wp-content/uploads/2025/04/good-friday.png
END:VEVENT
END:VCALENDAR