BEGIN:VCALENDAR
VERSION:2.0
PRODID:-//First Baptist Church Burnet - ECPv6.15.20//NONSGML v1.0//EN
CALSCALE:GREGORIAN
METHOD:PUBLISH
X-ORIGINAL-URL:https://fbcburnet.org
X-WR-CALDESC:Events for First Baptist Church Burnet
REFRESH-INTERVAL;VALUE=DURATION:PT1H
X-Robots-Tag:noindex
X-PUBLISHED-TTL:PT1H
BEGIN:VTIMEZONE
TZID:America/Chicago
BEGIN:DAYLIGHT
TZOFFSETFROM:-0600
TZOFFSETTO:-0500
TZNAME:CDT
DTSTART:20240310T080000
END:DAYLIGHT
BEGIN:STANDARD
TZOFFSETFROM:-0500
TZOFFSETTO:-0600
TZNAME:CST
DTSTART:20241103T070000
END:STANDARD
BEGIN:DAYLIGHT
TZOFFSETFROM:-0600
TZOFFSETTO:-0500
TZNAME:CDT
DTSTART:20250309T080000
END:DAYLIGHT
BEGIN:STANDARD
TZOFFSETFROM:-0500
TZOFFSETTO:-0600
TZNAME:CST
DTSTART:20251102T070000
END:STANDARD
BEGIN:DAYLIGHT
TZOFFSETFROM:-0600
TZOFFSETTO:-0500
TZNAME:CDT
DTSTART:20260308T080000
END:DAYLIGHT
BEGIN:STANDARD
TZOFFSETFROM:-0500
TZOFFSETTO:-0600
TZNAME:CST
DTSTART:20261101T070000
END:STANDARD
END:VTIMEZONE
BEGIN:VEVENT
DTSTART;VALUE=DATE:20250414
DTEND;VALUE=DATE:20250415
DTSTAMP:20260425T072243
CREATED:20250414T143736Z
LAST-MODIFIED:20250414T143742Z
UID:73078-1744588800-1744675199@fbcburnet.org
SUMMARY:Easter Sunday Services
DESCRIPTION:Easter Sunday at First Baptist Church BurnetJoin us on Easter Sunday\, April 20\, 2025\, as we celebrate the resurrection of Jesus Christ with two special worship services at 9:00 AM and 11:15 AM in our brand new Worship Center! \nThis will be a powerful time of worship\, reflection\, and celebration through music\, teaching\, and the joy of gathering as a church family. Whether you’re a longtime member or visiting for the first time\, we invite you to experience the hope and new life found in Jesus. \nWe can’t wait to worship with you!
URL:https://fbcburnet.org/event/easter-sunday-services/
ATTACH;FMTTYPE=image/png:https://fbcburnet.org/wp-content/uploads/2025/04/website-slide-1.png
END:VEVENT
END:VCALENDAR